BEGIN:VCALENDAR
VERSION:2.0
PRODID:spatie/icalendar-generator
DESCRIPTION:Veranstaltungen von Die Weinblüten
X-WR-CALDESC:Veranstaltungen von Die Weinblüten
REFRESH-INTERVAL;VALUE=DURATION:PT1440M
X-PUBLISHED-TTL:PT1440M
BEGIN:VTIMEZONE
TZID:Europe/Vienna
BEGIN:DAYLIGHT
DTSTART:20230326T020000Z
TZOFFSETFROM:+0100
TZOFFSETTO:+0200
END:DAYLIGHT
BEGIN:STANDARD
DTSTART:20231029T030000Z
TZOFFSETFROM:+0200
TZOFFSETTO:+0100
END:STANDARD
END:VTIMEZONE
BEGIN:VTIMEZONE
TZID:UTC
BEGIN:STANDARD
DTSTART:20250726T121034Z
TZOFFSETFROM:+0000
TZOFFSETTO:+0000
END:STANDARD
END:VTIMEZONE
BEGIN:VEVENT
UID:13-13
DTSTAMP:20260422T121034Z
SUMMARY:Jahrgangspräsentation
LOCATION:Fischer Weine
ORGANIZER;CN=Bea Lamp:MAILTO:info@xn--weinblten-v9a.at
DTSTART;TZID=Europe/Vienna:20230902T000000
DTEND;TZID=Europe/Vienna:20230902T010000
X-ALT-DESC;FMTTYPE=TEXT/HTML:
CATEGORIES:General
URL;VALUE=URI:https://www.xn--weinblten-v9a.at/?mc-events=jahrgangspraesent
 ation
METHOD:PUBLISH
END:VEVENT
END:VCALENDAR