BEGIN:VCALENDAR
VERSION:2.0
PRODID:spatie/icalendar-generator
DESCRIPTION:Veranstaltungen von Die Weinblüten
X-WR-CALDESC:Veranstaltungen von Die Weinblüten
REFRESH-INTERVAL;VALUE=DURATION:PT1440M
X-PUBLISHED-TTL:PT1440M
BEGIN:VTIMEZONE
TZID:Europe/Vienna
BEGIN:DAYLIGHT
DTSTART:20260329T020000Z
TZOFFSETFROM:+0100
TZOFFSETTO:+0200
END:DAYLIGHT
BEGIN:STANDARD
DTSTART:20261025T030000Z
TZOFFSETFROM:+0200
TZOFFSETTO:+0100
END:STANDARD
BEGIN:DAYLIGHT
DTSTART:20270328T020000Z
TZOFFSETFROM:+0100
TZOFFSETTO:+0200
END:DAYLIGHT
END:VTIMEZONE
BEGIN:VTIMEZONE
TZID:UTC
BEGIN:STANDARD
DTSTART:20250726T135434Z
TZOFFSETFROM:+0000
TZOFFSETTO:+0000
END:STANDARD
END:VTIMEZONE
BEGIN:VEVENT
UID:57-57
DTSTAMP:20260422T135434Z
SUMMARY:Kellergasslfest in Tieschen
LOCATION:
ORGANIZER;CN=Bea Lamp:MAILTO:info@xn--weinblten-v9a.at
DTSTART;TZID=Europe/Vienna:20261004T000000
DTEND;TZID=Europe/Vienna:20261004T010000
X-ALT-DESC;FMTTYPE=TEXT/HTML:Weinhof Sorger
CATEGORIES:General
URL;VALUE=URI:https://www.xn--weinblten-v9a.at/?mc-events=kellergasslfest-i
 n-tieschen
METHOD:PUBLISH
END:VEVENT
END:VCALENDAR