BEGIN:VCALENDAR
VERSION:2.0
PRODID:spatie/icalendar-generator
DESCRIPTION:Veranstaltungen von Die Weinblüten
X-WR-CALDESC:Veranstaltungen von Die Weinblüten
REFRESH-INTERVAL;VALUE=DURATION:PT1440M
X-PUBLISHED-TTL:PT1440M
BEGIN:VTIMEZONE
TZID:Europe/Vienna
BEGIN:STANDARD
DTSTART:20231029T030000Z
TZOFFSETFROM:+0200
TZOFFSETTO:+0100
END:STANDARD
BEGIN:DAYLIGHT
DTSTART:20240331T020000Z
TZOFFSETFROM:+0100
TZOFFSETTO:+0200
END:DAYLIGHT
BEGIN:STANDARD
DTSTART:20241027T030000Z
TZOFFSETFROM:+0200
TZOFFSETTO:+0100
END:STANDARD
END:VTIMEZONE
BEGIN:VTIMEZONE
TZID:UTC
BEGIN:STANDARD
DTSTART:20250728T194358Z
TZOFFSETFROM:+0000
TZOFFSETTO:+0000
END:STANDARD
END:VTIMEZONE
BEGIN:VEVENT
UID:31-31
DTSTAMP:20260424T194358Z
SUMMARY:Weinblütenfest am Aunberg
LOCATION:
ORGANIZER;CN=Bea Lamp:MAILTO:info@xn--weinblten-v9a.at
DTSTART;TZID=Europe/Vienna:20240519T110000
DTEND;TZID=Europe/Vienna:20240519T120000
X-ALT-DESC;FMTTYPE=TEXT/HTML:
CATEGORIES:General
URL;VALUE=URI:https://www.xn--weinblten-v9a.at/?mc-events=weinbluetenfest-a
 m-aunberg
METHOD:PUBLISH
END:VEVENT
END:VCALENDAR