BEGIN:VCALENDAR
VERSION:2.0
PRODID:spatie/icalendar-generator
DESCRIPTION:Veranstaltungen von Die Weinblüten
X-WR-CALDESC:Veranstaltungen von Die Weinblüten
REFRESH-INTERVAL;VALUE=DURATION:PT1440M
X-PUBLISHED-TTL:PT1440M
BEGIN:VTIMEZONE
TZID:Europe/Vienna
BEGIN:STANDARD
DTSTART:20251026T030000Z
TZOFFSETFROM:+0200
TZOFFSETTO:+0100
END:STANDARD
BEGIN:DAYLIGHT
DTSTART:20260329T020000Z
TZOFFSETFROM:+0100
TZOFFSETTO:+0200
END:DAYLIGHT
BEGIN:STANDARD
DTSTART:20261025T030000Z
TZOFFSETFROM:+0200
TZOFFSETTO:+0100
END:STANDARD
END:VTIMEZONE
BEGIN:VTIMEZONE
TZID:UTC
BEGIN:STANDARD
DTSTART:20250726T121548Z
TZOFFSETFROM:+0000
TZOFFSETTO:+0000
END:STANDARD
END:VTIMEZONE
BEGIN:VEVENT
UID:48-48
DTSTAMP:20260422T121548Z
SUMMARY:Weintour der Sinne in St. Anna/Aigen
LOCATION:
ORGANIZER;CN=Bea Lamp:MAILTO:info@xn--weinblten-v9a.at
DTSTART;TZID=Europe/Vienna:20260509T000000
DTEND;TZID=Europe/Vienna:20260509T010000
X-ALT-DESC;FMTTYPE=TEXT/HTML:Fischer Weine Weingut Anne Grießbacher Weinho
 f Seidl
CATEGORIES:General
URL;VALUE=URI:https://www.xn--weinblten-v9a.at/?mc-events=weintour-der-sinn
 e-in-st-anna-aigen
METHOD:PUBLISH
END:VEVENT
END:VCALENDAR